BEGIN:VCALENDAR
VERSION:2.0
PRODID:-//jEvents 2.0 for Joomla//EN
CALSCALE:GREGORIAN
METHOD:PUBLISH
BEGIN:VTIMEZONE
TZID:Europe/Berlin
BEGIN:STANDARD
DTSTART:20211031T020000
RDATE:20220327T030000
TZOFFSETFROM:+0200
TZOFFSETTO:+0100
TZNAME:Europe/Berlin CET
END:STANDARD
BEGIN:STANDARD
DTSTART:20221030T020000
RDATE:20230326T030000
TZOFFSETFROM:+0200
TZOFFSETTO:+0100
TZNAME:Europe/Berlin CET
END:STANDARD
BEGIN:STANDARD
DTSTART:20231029T020000
RDATE:20240331T030000
TZOFFSETFROM:+0200
TZOFFSETTO:+0100
TZNAME:Europe/Berlin CET
END:STANDARD
BEGIN:STANDARD
DTSTART:20241027T020000
RDATE:20250330T030000
TZOFFSETFROM:+0200
TZOFFSETTO:+0100
TZNAME:Europe/Berlin CET
END:STANDARD
BEGIN:STANDARD
DTSTART:20251026T020000
RDATE:20260329T030000
TZOFFSETFROM:+0200
TZOFFSETTO:+0100
TZNAME:Europe/Berlin CET
END:STANDARD
BEGIN:STANDARD
DTSTART:20261025T020000
RDATE:20270328T030000
TZOFFSETFROM:+0200
TZOFFSETTO:+0100
TZNAME:Europe/Berlin CET
END:STANDARD
BEGIN:STANDARD
DTSTART:20271031T020000
RDATE:20280326T030000
TZOFFSETFROM:+0200
TZOFFSETTO:+0100
TZNAME:Europe/Berlin CET
END:STANDARD
BEGIN:STANDARD
DTSTART:20281029T020000
RDATE:20290325T030000
TZOFFSETFROM:+0200
TZOFFSETTO:+0100
TZNAME:Europe/Berlin CET
END:STANDARD
BEGIN:STANDARD
DTSTART:20291028T020000
RDATE:20300331T030000
TZOFFSETFROM:+0200
TZOFFSETTO:+0100
TZNAME:Europe/Berlin CET
END:STANDARD
BEGIN:STANDARD
DTSTART:20301027T020000
RDATE:20310330T030000
TZOFFSETFROM:+0200
TZOFFSETTO:+0100
TZNAME:Europe/Berlin CET
END:STANDARD
BEGIN:STANDARD
DTSTART:20311026T020000
RDATE:20320328T030000
TZOFFSETFROM:+0200
TZOFFSETTO:+0100
TZNAME:Europe/Berlin CET
END:STANDARD
BEGIN:DAYLIGHT
DTSTART:20210424T190000
RDATE:20211031T020000
TZOFFSETFROM:+0100
TZOFFSETTO:+0200
TZNAME:Europe/Berlin CEST
END:DAYLIGHT
BEGIN:DAYLIGHT
DTSTART:20220327T030000
RDATE:20221030T020000
TZOFFSETFROM:+0100
TZOFFSETTO:+0200
TZNAME:Europe/Berlin CEST
END:DAYLIGHT
BEGIN:DAYLIGHT
DTSTART:20230326T030000
RDATE:20231029T020000
TZOFFSETFROM:+0100
TZOFFSETTO:+0200
TZNAME:Europe/Berlin CEST
END:DAYLIGHT
BEGIN:DAYLIGHT
DTSTART:20240331T030000
RDATE:20241027T020000
TZOFFSETFROM:+0100
TZOFFSETTO:+0200
TZNAME:Europe/Berlin CEST
END:DAYLIGHT
BEGIN:DAYLIGHT
DTSTART:20250330T030000
RDATE:20251026T020000
TZOFFSETFROM:+0100
TZOFFSETTO:+0200
TZNAME:Europe/Berlin CEST
END:DAYLIGHT
BEGIN:DAYLIGHT
DTSTART:20260329T030000
RDATE:20261025T020000
TZOFFSETFROM:+0100
TZOFFSETTO:+0200
TZNAME:Europe/Berlin CEST
END:DAYLIGHT
BEGIN:DAYLIGHT
DTSTART:20270328T030000
RDATE:20271031T020000
TZOFFSETFROM:+0100
TZOFFSETTO:+0200
TZNAME:Europe/Berlin CEST
END:DAYLIGHT
BEGIN:DAYLIGHT
DTSTART:20280326T030000
RDATE:20281029T020000
TZOFFSETFROM:+0100
TZOFFSETTO:+0200
TZNAME:Europe/Berlin CEST
END:DAYLIGHT
BEGIN:DAYLIGHT
DTSTART:20290325T030000
RDATE:20291028T020000
TZOFFSETFROM:+0100
TZOFFSETTO:+0200
TZNAME:Europe/Berlin CEST
END:DAYLIGHT
BEGIN:DAYLIGHT
DTSTART:20300331T030000
RDATE:20301027T020000
TZOFFSETFROM:+0100
TZOFFSETTO:+0200
TZNAME:Europe/Berlin CEST
END:DAYLIGHT
BEGIN:DAYLIGHT
DTSTART:20310330T030000
RDATE:20311026T020000
TZOFFSETFROM:+0100
TZOFFSETTO:+0200
TZNAME:Europe/Berlin CEST
END:DAYLIGHT
END:VTIMEZONE
BEGIN:VEVENT
UID:ccd2984cb123e0a57343f62245e83332
CATEGORIES:Veranstaltungen/Feste
CREATED:20220223T131514
SUMMARY:„Stadt.Land.Klassik!“ zum ersten Mal in Friedland
LOCATION:Friedland\, Volkshaus
DESCRIPTION;ENCODING=QUOTED-PRINTABLE:<p><strong>„Stadt.Land.Klassik!“ zum ersten Mal in Friedland</strong></p><p
 >Die jungen Musiker der Neuen Philharmonie MV hatten das Volkshaus bereits 
 im letzten Sommer „entdeckt“, als sie dort den „Karneval der Tiere“ für die
  Grundschulen spielten. Die Idee, auch mit der Konzertreihe „Stadt.Land.Kla
 ssik!“ für ein Abendkonzert ins Volkshaus zu kommen, lag also nah und nach 
 wenigen Gesprächen mit den Verantwortlichen stand fest, dass Friedland ab j
 etzt auch zu den Spielstätten der beliebten Konzert-Tour gehört.</p><p>Was 
 ist das Besondere an „Stadt.Land.Klassik!“? Mit feinster klassischer Musik 
 möchten die jungen Profi-Musiker um Dirigent Andreas Schulz ihr Publikum au
 ch an kleineren Spielstätten „um die Ecke“ verwöhnen – also genau dort, wo 
 Sie zu Hause sind. Auf dem Frühlings-Tourplan im April stehen Konzerte in E
 ggesin, Friedland, Waren, Anklam und Pasewalk.</p><p><strong>Am Montag, 25.
  April 2022 um 19:00 Uhr findet „Stadt.Land.Klassik!“ zum ersten Mal im Vol
 kshaus statt und die Organisatoren hoffen, dass die Konzertreihe sich auch 
 in Friedland so schnell etabliert wie beispielsweise in Anklam, Pasewalk un
 d Torgelow. Trotz der coronabedingt reduzierten Besucherzahl werden die Mus
 iker ihren Zuschauern wunderschöne Klänge und prickelnde Orchesteratmosphär
 e vermitteln.&nbsp;</strong><strong>Geplant sind Werke von Schubert und Bee
 thoven.</strong></p><p>Alle Konzerte werden unterhaltsam moderiert. Dadurch
  erhalten auch Besucher ohne vertieftes Klassikwissen einen leichten Zugang
  zu den Stücken.</p><p><strong>&nbsp;</strong><strong>„Stadt. Land. Klassik
 !“ ist eine Konzertreihe der Neuen Philharmonie MV in Zusammenarbeit mit de
 r Nordkurier Mediengruppe. Die Veranstalter bringen klassische Musik zu ers
 chwinglichen Preisen für Kinder und Erwachsene in viele Regionen Mecklenbur
 g-Vorpommerns abseits großer Spielstätten. Karten für das Abendkonzert (23 
 € + 2 € Abendkasse) sind in Kürze erhältlich. </strong></p><p><strong>Infor
 mation und Kontakt:&nbsp;</strong><strong><span id="cloak55e76a16c3e28d64f4
 444ba3b373c39d">Diese E-Mail-Adresse ist vor Spambots geschützt! Zur Anzeig
 e muss JavaScript eingeschaltet sein!</span><script type='text/javascript'>
 
				document.getElementById('cloak55e76a16c3e28d64f4444ba3b373c39d').inner
 HTML = '';
				var prefix = '&#109;a' + 'i&#108;' + '&#116;o';
				var path
  = 'hr' + 'ef' + '=';
				var addy55e76a16c3e28d64f4444ba3b373c39d = 'st&#9
 7;dtl&#97;ndkl&#97;ss&#105;k' + '&#64;';
				addy55e76a16c3e28d64f4444ba3b3
 73c39d = addy55e76a16c3e28d64f4444ba3b373c39d + 'n&#111;rdk&#117;r&#105;&#1
 01;r-m&#101;d&#105;&#101;ngr&#117;pp&#101;' + '&#46;' + 'd&#101;';
				var 
 addy_text55e76a16c3e28d64f4444ba3b373c39d = 'st&#97;dtl&#97;ndkl&#97;ss&#10
 5;k' + '&#64;' + 'n&#111;rdk&#117;r&#105;&#101;r-m&#101;d&#105;&#101;ngr&#1
 17;pp&#101;' + '&#46;' + 'd&#101;';document.getElementById('cloak55e76a16c3
 e28d64f4444ba3b373c39d').innerHTML += '<a ' + path + '\'' + prefix + ':' + 
 addy55e76a16c3e28d64f4444ba3b373c39d + '\'>'+addy_text55e76a16c3e28d64f4444
 ba3b373c39d+'<\/a>';
		</script></strong><strong> oder Mobil 0170 - 1218073
 </strong></p><p>&nbsp;</p><p>Hygienehinweis: Zutritt für <strong>G</strong>
 eimpfte,&nbsp;<strong>G</strong>enesene oder&nbsp;<strong>G</strong>etestet
 e (3G). Ausgenommen sind Kinder unter sieben Jahren und minderjährige Schül
 er, die regelmäßig getestet werden. Antigen-Schnelltests dürfen in der Rege
 l nicht älter als 24 Stunden sein, PCR-Tests nicht älter als 48 Stunden. Es
  besteht weiterhin die Maskenpflicht.</p>
DTSTAMP:20260421T124328Z
DTSTART;TZID=Europe/Berlin:20220425T190000
SEQUENCE:0
TRANSP:OPAQUE
END:VEVENT
END:VCALENDAR