BEGIN:VCALENDAR
VERSION:2.0
PRODID:-//jEvents 2.0 for Joomla//EN
CALSCALE:GREGORIAN
METHOD:PUBLISH
BEGIN:VTIMEZONE
TZID:Europe/Berlin
BEGIN:STANDARD
DTSTART:20211031T020000
RDATE:20220327T030000
TZOFFSETFROM:+0200
TZOFFSETTO:+0100
TZNAME:Europe/Berlin CET
END:STANDARD
BEGIN:STANDARD
DTSTART:20221030T020000
RDATE:20230326T030000
TZOFFSETFROM:+0200
TZOFFSETTO:+0100
TZNAME:Europe/Berlin CET
END:STANDARD
BEGIN:STANDARD
DTSTART:20231029T020000
RDATE:20240331T030000
TZOFFSETFROM:+0200
TZOFFSETTO:+0100
TZNAME:Europe/Berlin CET
END:STANDARD
BEGIN:STANDARD
DTSTART:20241027T020000
RDATE:20250330T030000
TZOFFSETFROM:+0200
TZOFFSETTO:+0100
TZNAME:Europe/Berlin CET
END:STANDARD
BEGIN:STANDARD
DTSTART:20251026T020000
RDATE:20260329T030000
TZOFFSETFROM:+0200
TZOFFSETTO:+0100
TZNAME:Europe/Berlin CET
END:STANDARD
BEGIN:STANDARD
DTSTART:20261025T020000
RDATE:20270328T030000
TZOFFSETFROM:+0200
TZOFFSETTO:+0100
TZNAME:Europe/Berlin CET
END:STANDARD
BEGIN:STANDARD
DTSTART:20271031T020000
RDATE:20280326T030000
TZOFFSETFROM:+0200
TZOFFSETTO:+0100
TZNAME:Europe/Berlin CET
END:STANDARD
BEGIN:STANDARD
DTSTART:20281029T020000
RDATE:20290325T030000
TZOFFSETFROM:+0200
TZOFFSETTO:+0100
TZNAME:Europe/Berlin CET
END:STANDARD
BEGIN:STANDARD
DTSTART:20291028T020000
RDATE:20300331T030000
TZOFFSETFROM:+0200
TZOFFSETTO:+0100
TZNAME:Europe/Berlin CET
END:STANDARD
BEGIN:STANDARD
DTSTART:20301027T020000
RDATE:20310330T030000
TZOFFSETFROM:+0200
TZOFFSETTO:+0100
TZNAME:Europe/Berlin CET
END:STANDARD
BEGIN:STANDARD
DTSTART:20311026T020000
RDATE:20320328T030000
TZOFFSETFROM:+0200
TZOFFSETTO:+0100
TZNAME:Europe/Berlin CET
END:STANDARD
BEGIN:DAYLIGHT
DTSTART:20210409T094500
RDATE:20211031T020000
TZOFFSETFROM:+0100
TZOFFSETTO:+0200
TZNAME:Europe/Berlin CEST
END:DAYLIGHT
BEGIN:DAYLIGHT
DTSTART:20220327T030000
RDATE:20221030T020000
TZOFFSETFROM:+0100
TZOFFSETTO:+0200
TZNAME:Europe/Berlin CEST
END:DAYLIGHT
BEGIN:DAYLIGHT
DTSTART:20230326T030000
RDATE:20231029T020000
TZOFFSETFROM:+0100
TZOFFSETTO:+0200
TZNAME:Europe/Berlin CEST
END:DAYLIGHT
BEGIN:DAYLIGHT
DTSTART:20240331T030000
RDATE:20241027T020000
TZOFFSETFROM:+0100
TZOFFSETTO:+0200
TZNAME:Europe/Berlin CEST
END:DAYLIGHT
BEGIN:DAYLIGHT
DTSTART:20250330T030000
RDATE:20251026T020000
TZOFFSETFROM:+0100
TZOFFSETTO:+0200
TZNAME:Europe/Berlin CEST
END:DAYLIGHT
BEGIN:DAYLIGHT
DTSTART:20260329T030000
RDATE:20261025T020000
TZOFFSETFROM:+0100
TZOFFSETTO:+0200
TZNAME:Europe/Berlin CEST
END:DAYLIGHT
BEGIN:DAYLIGHT
DTSTART:20270328T030000
RDATE:20271031T020000
TZOFFSETFROM:+0100
TZOFFSETTO:+0200
TZNAME:Europe/Berlin CEST
END:DAYLIGHT
BEGIN:DAYLIGHT
DTSTART:20280326T030000
RDATE:20281029T020000
TZOFFSETFROM:+0100
TZOFFSETTO:+0200
TZNAME:Europe/Berlin CEST
END:DAYLIGHT
BEGIN:DAYLIGHT
DTSTART:20290325T030000
RDATE:20291028T020000
TZOFFSETFROM:+0100
TZOFFSETTO:+0200
TZNAME:Europe/Berlin CEST
END:DAYLIGHT
BEGIN:DAYLIGHT
DTSTART:20300331T030000
RDATE:20301027T020000
TZOFFSETFROM:+0100
TZOFFSETTO:+0200
TZNAME:Europe/Berlin CEST
END:DAYLIGHT
BEGIN:DAYLIGHT
DTSTART:20310330T030000
RDATE:20311026T020000
TZOFFSETFROM:+0100
TZOFFSETTO:+0200
TZNAME:Europe/Berlin CEST
END:DAYLIGHT
END:VTIMEZONE
BEGIN:VEVENT
UID:7af43e19747115e6c01dfc705f33ab51
CATEGORIES:Veranstaltungen/Feste
CREATED:20220322T151338
SUMMARY:Frühlingslauf
LOCATION:Friedland\, Wintergarten Volkshaus
DESCRIPTION;ENCODING=QUOTED-PRINTABLE:<p>Die Friedländer Sausewinde und Leichtathleten des TSV 1814 Friedland e.V
 . möchten zum Frühlingslauf in Friedland einladen. Die Planung und Vorberei
 tungen der Wettkämpfe sind abgeschlossen.</p><p>Eröffnung: 09:45 Uhr in Fri
 edland, im Wintergarten des Volkshauses</p><p>Die Ausschreibung zu unserem 
 Frühlingslauf findet ihr unter: <a href="https://www.tsv-friedland-1814.de"
  target="_blank" rel="noopener">www.tsv-friedland-1814.de</a>. Die individu
 elle Meldeliste senden Sie bitte bis zum 05.04.2022 per Mail an:&nbsp;<span
  id="cloak3be78aedf6837b1a6da31d5127b1d195">Diese E-Mail-Adresse ist vor Sp
 ambots geschützt! Zur Anzeige muss JavaScript eingeschaltet sein!</span><sc
 ript type='text/javascript'>
				document.getElementById('cloak3be78aedf683
 7b1a6da31d5127b1d195').innerHTML = '';
				var prefix = '&#109;a' + 'i&#108
 ;' + '&#116;o';
				var path = 'hr' + 'ef' + '=';
				var addy3be78aedf6837
 b1a6da31d5127b1d195 = 'TSV.Fr&#105;&#101;dl&#97;nd.L&#101;&#105;cht&#97;thl
 &#101;t&#105;k' + '&#64;';
				addy3be78aedf6837b1a6da31d5127b1d195 = addy3
 be78aedf6837b1a6da31d5127b1d195 + 't-&#111;nl&#105;n&#101;' + '&#46;' + 'd&
 #101;';
				var addy_text3be78aedf6837b1a6da31d5127b1d195 = 'TSV.Fr&#105;&#
 101;dl&#97;nd.L&#101;&#105;cht&#97;thl&#101;t&#105;k' + '&#64;' + 't-&#111;
 nl&#105;n&#101;' + '&#46;' + 'd&#101;';document.getElementById('cloak3be78a
 edf6837b1a6da31d5127b1d195').innerHTML += '<a ' + path + '\'' + prefix + ':
 ' + addy3be78aedf6837b1a6da31d5127b1d195 + '\'>'+addy_text3be78aedf6837b1a6
 da31d5127b1d195+'<\/a>';
		</script>&nbsp;(Nachmeldungen sind natürlich auc
 h noch am Veranstaltungstag bis 09:30 Uhr möglich.)</p><p>Die Strecke führt
  über Rasenflächen, befestigten Wegen und Gehwegen. Die Friedländer Sausewi
 nde und Leichtathleten freuen sich auf euren Besuch und spannende Wettkämpf
 e.</p>
CONTACT:TSV Friedland 1814 e.V.  - Sektion Leichtathletik 
DTSTAMP:20260419T142650Z
DTSTART;TZID=Europe/Berlin:20220410T094500
SEQUENCE:0
TRANSP:OPAQUE
END:VEVENT
END:VCALENDAR