BEGIN:VCALENDAR
VERSION:2.0
PRODID:-//jEvents 2.0 for Joomla//EN
CALSCALE:GREGORIAN
METHOD:PUBLISH
BEGIN:VTIMEZONE
TZID:Europe/Berlin
BEGIN:STANDARD
DTSTART:20221030T020000
RDATE:20230326T030000
TZOFFSETFROM:+0200
TZOFFSETTO:+0100
TZNAME:Europe/Berlin CET
END:STANDARD
BEGIN:STANDARD
DTSTART:20231029T020000
RDATE:20240331T030000
TZOFFSETFROM:+0200
TZOFFSETTO:+0100
TZNAME:Europe/Berlin CET
END:STANDARD
BEGIN:STANDARD
DTSTART:20241027T020000
RDATE:20250330T030000
TZOFFSETFROM:+0200
TZOFFSETTO:+0100
TZNAME:Europe/Berlin CET
END:STANDARD
BEGIN:STANDARD
DTSTART:20251026T020000
RDATE:20260329T030000
TZOFFSETFROM:+0200
TZOFFSETTO:+0100
TZNAME:Europe/Berlin CET
END:STANDARD
BEGIN:STANDARD
DTSTART:20261025T020000
RDATE:20270328T030000
TZOFFSETFROM:+0200
TZOFFSETTO:+0100
TZNAME:Europe/Berlin CET
END:STANDARD
BEGIN:STANDARD
DTSTART:20271031T020000
RDATE:20280326T030000
TZOFFSETFROM:+0200
TZOFFSETTO:+0100
TZNAME:Europe/Berlin CET
END:STANDARD
BEGIN:STANDARD
DTSTART:20281029T020000
RDATE:20290325T030000
TZOFFSETFROM:+0200
TZOFFSETTO:+0100
TZNAME:Europe/Berlin CET
END:STANDARD
BEGIN:STANDARD
DTSTART:20291028T020000
RDATE:20300331T030000
TZOFFSETFROM:+0200
TZOFFSETTO:+0100
TZNAME:Europe/Berlin CET
END:STANDARD
BEGIN:STANDARD
DTSTART:20301027T020000
RDATE:20310330T030000
TZOFFSETFROM:+0200
TZOFFSETTO:+0100
TZNAME:Europe/Berlin CET
END:STANDARD
BEGIN:STANDARD
DTSTART:20311026T020000
RDATE:20320328T030000
TZOFFSETFROM:+0200
TZOFFSETTO:+0100
TZNAME:Europe/Berlin CET
END:STANDARD
BEGIN:DAYLIGHT
DTSTART:20220513T170000
RDATE:20221030T020000
TZOFFSETFROM:+0100
TZOFFSETTO:+0200
TZNAME:Europe/Berlin CEST
END:DAYLIGHT
BEGIN:DAYLIGHT
DTSTART:20230326T030000
RDATE:20231029T020000
TZOFFSETFROM:+0100
TZOFFSETTO:+0200
TZNAME:Europe/Berlin CEST
END:DAYLIGHT
BEGIN:DAYLIGHT
DTSTART:20240331T030000
RDATE:20241027T020000
TZOFFSETFROM:+0100
TZOFFSETTO:+0200
TZNAME:Europe/Berlin CEST
END:DAYLIGHT
BEGIN:DAYLIGHT
DTSTART:20250330T030000
RDATE:20251026T020000
TZOFFSETFROM:+0100
TZOFFSETTO:+0200
TZNAME:Europe/Berlin CEST
END:DAYLIGHT
BEGIN:DAYLIGHT
DTSTART:20260329T030000
RDATE:20261025T020000
TZOFFSETFROM:+0100
TZOFFSETTO:+0200
TZNAME:Europe/Berlin CEST
END:DAYLIGHT
BEGIN:DAYLIGHT
DTSTART:20270328T030000
RDATE:20271031T020000
TZOFFSETFROM:+0100
TZOFFSETTO:+0200
TZNAME:Europe/Berlin CEST
END:DAYLIGHT
BEGIN:DAYLIGHT
DTSTART:20280326T030000
RDATE:20281029T020000
TZOFFSETFROM:+0100
TZOFFSETTO:+0200
TZNAME:Europe/Berlin CEST
END:DAYLIGHT
BEGIN:DAYLIGHT
DTSTART:20290325T030000
RDATE:20291028T020000
TZOFFSETFROM:+0100
TZOFFSETTO:+0200
TZNAME:Europe/Berlin CEST
END:DAYLIGHT
BEGIN:DAYLIGHT
DTSTART:20300331T030000
RDATE:20301027T020000
TZOFFSETFROM:+0100
TZOFFSETTO:+0200
TZNAME:Europe/Berlin CEST
END:DAYLIGHT
BEGIN:DAYLIGHT
DTSTART:20310330T030000
RDATE:20311026T020000
TZOFFSETFROM:+0100
TZOFFSETTO:+0200
TZNAME:Europe/Berlin CEST
END:DAYLIGHT
END:VTIMEZONE
BEGIN:VEVENT
UID:2232f52165c227b4830e7786ae53250d
CATEGORIES:Veranstaltungen/Feste
CREATED:20230313T160437
SUMMARY:Geburtstagskonzert für Friedländer Komponistin Emilie Mayer
LOCATION:GM KunstRaum Pleetz - Einmaliges im Datzetal\, Rogaer Weg 2\, 17099 Datzeta
 l OT Pleetz 
DESCRIPTION;ENCODING=QUOTED-PRINTABLE:<p>Umrahmt von Gesprächen über Leben und Werk der Komponistin spielt das K
 laviertrio Erika Leroux, Klavier, Elisabeth Glass, Violine und Judith Jamin
 , Cello&nbsp; Mayers Klaviertrio e-moll op. 12, das 1860 in Pasewalk zum er
 sten Mal zur Aufführung kam. Das Werk besticht durch seinen romantischen To
 n, durch die schönen Melodien, die geschickte Formung&nbsp; und den dramati
 schen Charakter. Es steht in einer Reihe mit den berühmteren und bis heute 
 oft gespielten Klaviertrios ihrer Zeitgenossen Mendelssohn und Schumann. Em
 ilie Mayer schrieb als Motto über das Werk „frisch gewagt ist halb gewonnen
 “ und reichte es 1859 zu einem Wettbewerb ein, bei dem sie den 4.Platz erra
 ng. Ihre Musik war nach ihrem Tode 1883 über 130 Jahre vergessen bzw. wurde
  nicht aufgeführt.</p><p>Der Eintritt beträgt 10 Euro, wir bitten um telefo
 nische Voranmeldung, da der GMKunstRaum Pleetz nur 25 Plätze bietet. Bitte 
 melden Sie sich an bei Reinhard Gagel, Tel. 0176 59974443 per sms oder <a h
 ref="mailto:gmkunstraum18@gmail.com"></a><span id="cloakaaecd55751cd8f31f84
 8cb65225c8232">Diese E-Mail-Adresse ist vor Spambots geschützt! Zur Anzeige
  muss JavaScript eingeschaltet sein!</span><script type='text/javascript'>

 				document.getElementById('cloakaaecd55751cd8f31f848cb65225c8232').innerH
 TML = '';
				var prefix = '&#109;a' + 'i&#108;' + '&#116;o';
				var path 
 = 'hr' + 'ef' + '=';
				var addyaaecd55751cd8f31f848cb65225c8232 = 'gmk&#1
 17;nstr&#97;&#117;m18' + '&#64;';
				addyaaecd55751cd8f31f848cb65225c8232 
 = addyaaecd55751cd8f31f848cb65225c8232 + 'gm&#97;&#105;l' + '&#46;' + 'c&#1
 11;m';
				var addy_textaaecd55751cd8f31f848cb65225c8232 = 'gmk&#117;nstr&#
 97;&#117;m18' + '&#64;' + 'gm&#97;&#105;l' + '&#46;' + 'c&#111;m';document.
 getElementById('cloakaaecd55751cd8f31f848cb65225c8232').innerHTML += '<a ' 
 + path + '\'' + prefix + ':' + addyaaecd55751cd8f31f848cb65225c8232 + '\'>'
 +addy_textaaecd55751cd8f31f848cb65225c8232+'<\/a>';
		</script> oder <a hre
 f="mailto:emilie.mayer.gesellschaft@gmail.com"></a><span id="cloakda7df9dbd
 df29d81967de9dc8be44348">Diese E-Mail-Adresse ist vor Spambots geschützt! Z
 ur Anzeige muss JavaScript eingeschaltet sein!</span><script type='text/jav
 ascript'>
				document.getElementById('cloakda7df9dbddf29d81967de9dc8be4434
 8').innerHTML = '';
				var prefix = '&#109;a' + 'i&#108;' + '&#116;o';
			
 	var path = 'hr' + 'ef' + '=';
				var addyda7df9dbddf29d81967de9dc8be44348
  = '&#101;m&#105;l&#105;&#101;.m&#97;y&#101;r.g&#101;s&#101;llsch&#97;ft' +
  '&#64;';
				addyda7df9dbddf29d81967de9dc8be44348 = addyda7df9dbddf29d8196
 7de9dc8be44348 + 'gm&#97;&#105;l' + '&#46;' + 'c&#111;m';
				var addy_text
 da7df9dbddf29d81967de9dc8be44348 = '&#101;m&#105;l&#105;&#101;.m&#97;y&#101
 ;r.g&#101;s&#101;llsch&#97;ft' + '&#64;' + 'gm&#97;&#105;l' + '&#46;' + 'c&
 #111;m';document.getElementById('cloakda7df9dbddf29d81967de9dc8be44348').in
 nerHTML += '<a ' + path + '\'' + prefix + ':' + addyda7df9dbddf29d81967de9d
 c8be44348 + '\'>'+addy_textda7df9dbddf29d81967de9dc8be44348+'<\/a>';
		</sc
 ript></p><p>Die Arbeit der Emilie Mayer Gesellschaft wird gefördert durch: 
 Deutsche Stiftung für Engagement und Ehrenamt, die Stiftung Ehrenamt und de
 m Landkreis Mecklneburgische Seenplatte</p><p><strong>&nbsp; &nbsp;</strong
 ></p>
CONTACT:Emilie Mayer Gesellschaft e.V. 
DTSTAMP:20260422T162540Z
DTSTART;TZID=Europe/Berlin:20230514T170000
SEQUENCE:0
TRANSP:OPAQUE
END:VEVENT
END:VCALENDAR