BEGIN:VCALENDAR
VERSION:2.0
PRODID:-//jEvents 2.0 for Joomla//EN
CALSCALE:GREGORIAN
METHOD:PUBLISH
BEGIN:VTIMEZONE
TZID:Europe/Berlin
BEGIN:STANDARD
DTSTART:20221030T020000
RDATE:20230326T030000
TZOFFSETFROM:+0200
TZOFFSETTO:+0100
TZNAME:Europe/Berlin CET
END:STANDARD
BEGIN:STANDARD
DTSTART:20231029T020000
RDATE:20240331T030000
TZOFFSETFROM:+0200
TZOFFSETTO:+0100
TZNAME:Europe/Berlin CET
END:STANDARD
BEGIN:STANDARD
DTSTART:20241027T020000
RDATE:20250330T030000
TZOFFSETFROM:+0200
TZOFFSETTO:+0100
TZNAME:Europe/Berlin CET
END:STANDARD
BEGIN:STANDARD
DTSTART:20251026T020000
RDATE:20260329T030000
TZOFFSETFROM:+0200
TZOFFSETTO:+0100
TZNAME:Europe/Berlin CET
END:STANDARD
BEGIN:STANDARD
DTSTART:20261025T020000
RDATE:20270328T030000
TZOFFSETFROM:+0200
TZOFFSETTO:+0100
TZNAME:Europe/Berlin CET
END:STANDARD
BEGIN:STANDARD
DTSTART:20271031T020000
RDATE:20280326T030000
TZOFFSETFROM:+0200
TZOFFSETTO:+0100
TZNAME:Europe/Berlin CET
END:STANDARD
BEGIN:STANDARD
DTSTART:20281029T020000
RDATE:20290325T030000
TZOFFSETFROM:+0200
TZOFFSETTO:+0100
TZNAME:Europe/Berlin CET
END:STANDARD
BEGIN:STANDARD
DTSTART:20291028T020000
RDATE:20300331T030000
TZOFFSETFROM:+0200
TZOFFSETTO:+0100
TZNAME:Europe/Berlin CET
END:STANDARD
BEGIN:STANDARD
DTSTART:20301027T020000
RDATE:20310330T030000
TZOFFSETFROM:+0200
TZOFFSETTO:+0100
TZNAME:Europe/Berlin CET
END:STANDARD
BEGIN:STANDARD
DTSTART:20311026T020000
RDATE:20320328T030000
TZOFFSETFROM:+0200
TZOFFSETTO:+0100
TZNAME:Europe/Berlin CET
END:STANDARD
BEGIN:DAYLIGHT
DTSTART:20220513T180000
RDATE:20221030T020000
TZOFFSETFROM:+0100
TZOFFSETTO:+0200
TZNAME:Europe/Berlin CEST
END:DAYLIGHT
BEGIN:DAYLIGHT
DTSTART:20230326T030000
RDATE:20231029T020000
TZOFFSETFROM:+0100
TZOFFSETTO:+0200
TZNAME:Europe/Berlin CEST
END:DAYLIGHT
BEGIN:DAYLIGHT
DTSTART:20240331T030000
RDATE:20241027T020000
TZOFFSETFROM:+0100
TZOFFSETTO:+0200
TZNAME:Europe/Berlin CEST
END:DAYLIGHT
BEGIN:DAYLIGHT
DTSTART:20250330T030000
RDATE:20251026T020000
TZOFFSETFROM:+0100
TZOFFSETTO:+0200
TZNAME:Europe/Berlin CEST
END:DAYLIGHT
BEGIN:DAYLIGHT
DTSTART:20260329T030000
RDATE:20261025T020000
TZOFFSETFROM:+0100
TZOFFSETTO:+0200
TZNAME:Europe/Berlin CEST
END:DAYLIGHT
BEGIN:DAYLIGHT
DTSTART:20270328T030000
RDATE:20271031T020000
TZOFFSETFROM:+0100
TZOFFSETTO:+0200
TZNAME:Europe/Berlin CEST
END:DAYLIGHT
BEGIN:DAYLIGHT
DTSTART:20280326T030000
RDATE:20281029T020000
TZOFFSETFROM:+0100
TZOFFSETTO:+0200
TZNAME:Europe/Berlin CEST
END:DAYLIGHT
BEGIN:DAYLIGHT
DTSTART:20290325T030000
RDATE:20291028T020000
TZOFFSETFROM:+0100
TZOFFSETTO:+0200
TZNAME:Europe/Berlin CEST
END:DAYLIGHT
BEGIN:DAYLIGHT
DTSTART:20300331T030000
RDATE:20301027T020000
TZOFFSETFROM:+0100
TZOFFSETTO:+0200
TZNAME:Europe/Berlin CEST
END:DAYLIGHT
BEGIN:DAYLIGHT
DTSTART:20310330T030000
RDATE:20311026T020000
TZOFFSETFROM:+0100
TZOFFSETTO:+0200
TZNAME:Europe/Berlin CEST
END:DAYLIGHT
END:VTIMEZONE
BEGIN:VEVENT
UID:2b5541ed57791d281e478e181f84ff6a
CATEGORIES:Veranstaltungen/Feste
CREATED:20230319T182851
SUMMARY:Friedländer Orgelfrühling - 1. Konzert
LOCATION:St. Marien Friedland
DESCRIPTION;ENCODING=QUOTED-PRINTABLE:Mit Werken von Bach, Mouret, Telemann und Händel. Christoph Tiede und Chr
 istian Frommelt, beide Jahrgang 1965, trafen sich 1987 im Greifswalder Domc
 hor. Der eine hatte sein Kirchenmusikstudium beendet, der andere begann das
  Studium der Theologie. Erste gemeinsame musikalische Aktivitäten in Wieck
  (bei Greifswald). Hier hatte Christian Frommelt seine erste Anstellung als
  Organist. Sein Weg führte ihn weiter nach Weimar, wo er einige Semester Ge
 sang studierte. <br />Über Ermsleben am Rande des Harzes kam er schließlich
  nach Bad Godesberg, wo er seit 30 Jahren als Kantor und Organist an der E
 rlöserkirche tätig ist. Er leitet neben einem großen Posaunenchor und den K
 inderchören eine große Kantorei, mit der er regelmäßig Oratorien, Passione
 n und Kantaten aufführt. Auch als Konzertorganist, nicht nur an der Schuke
 Orgel der Erlöserkirche, genießt er einen hervorragenden Ruf. <br />Seit 1
 990 ist er mit Christoph Tiede regelmäßig in jedem Sommer auf Konzertreise.
  Christoph Tiede ist Autodidakt auf der Trompete. Aus dem Posaunenchor herv
 orgegangen, suchte er weiter nach Inspiration und Verbesserung seines Tromp
 etenspiels und beschäftigte sich mit der Piccolo-Trompete. Schon während d
 er Studienzeit in Greifswald nahm er an Kursen für Barocktrompete bei Prof.
  Friedemann Immer (Köln) teil. <br />Vielfältige musikalische Aktivitäten a
 uch im Bereich der Kammermusik. Bei der Greifswalder Bachwoche und dem Schö
 nberger Musiksommer ist er immer wieder bei der Aufführung von Kantaten und
  Oratorien zu hören. Christoph Tiede ist Pastor in der Stadt Usedom (auf de
 r gleichnamigen Insel) im Pommerschen Evangelischen Kirchenkreis und stellv
 ertretender Landesobmann im Posaunenwerk Mecklenburg-Vorpommern
CONTACT:Kirchengemeindebüro, Frau Schmidt: Tel. 039601 - 30303
DTSTAMP:20260424T145520Z
DTSTART;TZID=Europe/Berlin:20230514T180000
SEQUENCE:0
TRANSP:OPAQUE
END:VEVENT
END:VCALENDAR