BEGIN:VCALENDAR
VERSION:2.0
PRODID:-//jEvents 2.0 for Joomla//EN
CALSCALE:GREGORIAN
METHOD:PUBLISH
BEGIN:VTIMEZONE
TZID:Europe/Berlin
BEGIN:STANDARD
DTSTART:20221030T020000
RDATE:20230326T030000
TZOFFSETFROM:+0200
TZOFFSETTO:+0100
TZNAME:Europe/Berlin CET
END:STANDARD
BEGIN:STANDARD
DTSTART:20231029T020000
RDATE:20240331T030000
TZOFFSETFROM:+0200
TZOFFSETTO:+0100
TZNAME:Europe/Berlin CET
END:STANDARD
BEGIN:STANDARD
DTSTART:20241027T020000
RDATE:20250330T030000
TZOFFSETFROM:+0200
TZOFFSETTO:+0100
TZNAME:Europe/Berlin CET
END:STANDARD
BEGIN:STANDARD
DTSTART:20251026T020000
RDATE:20260329T030000
TZOFFSETFROM:+0200
TZOFFSETTO:+0100
TZNAME:Europe/Berlin CET
END:STANDARD
BEGIN:STANDARD
DTSTART:20261025T020000
RDATE:20270328T030000
TZOFFSETFROM:+0200
TZOFFSETTO:+0100
TZNAME:Europe/Berlin CET
END:STANDARD
BEGIN:STANDARD
DTSTART:20271031T020000
RDATE:20280326T030000
TZOFFSETFROM:+0200
TZOFFSETTO:+0100
TZNAME:Europe/Berlin CET
END:STANDARD
BEGIN:STANDARD
DTSTART:20281029T020000
RDATE:20290325T030000
TZOFFSETFROM:+0200
TZOFFSETTO:+0100
TZNAME:Europe/Berlin CET
END:STANDARD
BEGIN:STANDARD
DTSTART:20291028T020000
RDATE:20300331T030000
TZOFFSETFROM:+0200
TZOFFSETTO:+0100
TZNAME:Europe/Berlin CET
END:STANDARD
BEGIN:STANDARD
DTSTART:20301027T020000
RDATE:20310330T030000
TZOFFSETFROM:+0200
TZOFFSETTO:+0100
TZNAME:Europe/Berlin CET
END:STANDARD
BEGIN:STANDARD
DTSTART:20311026T020000
RDATE:20320328T030000
TZOFFSETFROM:+0200
TZOFFSETTO:+0100
TZNAME:Europe/Berlin CET
END:STANDARD
BEGIN:DAYLIGHT
DTSTART:20220430T000000
RDATE:20221030T020000
TZOFFSETFROM:+0100
TZOFFSETTO:+0200
TZNAME:Europe/Berlin CEST
END:DAYLIGHT
BEGIN:DAYLIGHT
DTSTART:20230326T030000
RDATE:20231029T020000
TZOFFSETFROM:+0100
TZOFFSETTO:+0200
TZNAME:Europe/Berlin CEST
END:DAYLIGHT
BEGIN:DAYLIGHT
DTSTART:20240331T030000
RDATE:20241027T020000
TZOFFSETFROM:+0100
TZOFFSETTO:+0200
TZNAME:Europe/Berlin CEST
END:DAYLIGHT
BEGIN:DAYLIGHT
DTSTART:20250330T030000
RDATE:20251026T020000
TZOFFSETFROM:+0100
TZOFFSETTO:+0200
TZNAME:Europe/Berlin CEST
END:DAYLIGHT
BEGIN:DAYLIGHT
DTSTART:20260329T030000
RDATE:20261025T020000
TZOFFSETFROM:+0100
TZOFFSETTO:+0200
TZNAME:Europe/Berlin CEST
END:DAYLIGHT
BEGIN:DAYLIGHT
DTSTART:20270328T030000
RDATE:20271031T020000
TZOFFSETFROM:+0100
TZOFFSETTO:+0200
TZNAME:Europe/Berlin CEST
END:DAYLIGHT
BEGIN:DAYLIGHT
DTSTART:20280326T030000
RDATE:20281029T020000
TZOFFSETFROM:+0100
TZOFFSETTO:+0200
TZNAME:Europe/Berlin CEST
END:DAYLIGHT
BEGIN:DAYLIGHT
DTSTART:20290325T030000
RDATE:20291028T020000
TZOFFSETFROM:+0100
TZOFFSETTO:+0200
TZNAME:Europe/Berlin CEST
END:DAYLIGHT
BEGIN:DAYLIGHT
DTSTART:20300331T030000
RDATE:20301027T020000
TZOFFSETFROM:+0100
TZOFFSETTO:+0200
TZNAME:Europe/Berlin CEST
END:DAYLIGHT
BEGIN:DAYLIGHT
DTSTART:20310330T030000
RDATE:20311026T020000
TZOFFSETFROM:+0100
TZOFFSETTO:+0200
TZNAME:Europe/Berlin CEST
END:DAYLIGHT
END:VTIMEZONE
BEGIN:VEVENT
UID:053283d635bcf7fd7dd84ee0f1b0ddf6
CATEGORIES:Veranstaltungen/Feste
CREATED:20230331T144221
SUMMARY:2. Stadtradeln in Friedland
LOCATION:überall für Friedland - Klimaschutz kennt keine Grenzen ;)
DESCRIPTION;ENCODING=QUOTED-PRINTABLE:\n\nFriedland ist vom 1. - 21. Mai 2023 zum zweiten Mal mit dabei und wird 
 für mehr Klimaschutz und Radverkehr in die Pedale treten. In diesem Zeitrau
 m lade ich Sie und alle ganz herzlich ein, beim STADTRADELN mitzumachen und
  möglichst viele Radkilometer zu sammeln. Anmelden können Sie sich schon je
 tzt unter stadtradeln.de/friedland.\n\n\nBeim Wettbewerb STADTRADELN geht e
 s um Spaß am Fahrradfahren und tolle Preise, aber vor allem darum, möglichs
 t viele Menschen für das Umsteigen auf das Fahrrad im Alltag zu gewinnen un
 d dadurch die Gesundheit fördern und zum Klimaschutz beitragen. Gründen Sie
  ein STADTRADELN-Team oder schließen Sie sich einem Team an, um am Wettbewe
 rb teilzunehmen. Dabei sollten Sie so oft wie möglich das Fahrrad nutzen.\n
 \n\nBeteiligen Sie sich am STADTRADELN! Verhelfen Sie Friedland zu einer gu
 ten Platzierung und motivieren Sie alle um sich herum ;)\n
CONTACT:Tel. 039601 - 27775, Diese E-Mail-Adresse ist vor Spambots geschützt! Zur Anzeige muss JavaScript eingeschaltet sein!
				document.getElementById('cloak7fe06d891c06a0b4722f69b5b419a188').innerHTML = '';
				var prefix = '&#109;a' + 'i&#108;' + '&#116;o';
				var path = 'hr' + 'ef' + '=';
				var addy7fe06d891c06a0b4722f69b5b419a188 = 'k.r&#111;&#101;sl&#101;r' + '&#64;';
				addy7fe06d891c06a0b4722f69b5b419a188 = addy7fe06d891c06a0b4722f69b5b419a188 + 'fr&#105;&#101;dl&#97;nd-m&#101;ckl&#101;nb&#117;rg' + '&#46;' + 'd&#101;';
				var addy_text7fe06d891c06a0b4722f69b5b419a188 = 'k.r&#111;&#101;sl&#101;r' + '&#64;' + 'fr&#105;&#101;dl&#97;nd-m&#101;ckl&#101;nb&#117;rg' + '&#46;' + 'd&#101;';document.getElementById('cloak7fe06d891c06a0b4722f69b5b419a188').innerHTML += ''+addy_text7fe06d891c06a0b4722f69b5b419a188+'';
		
DTSTAMP:20260424T145736Z
DTSTART;TZID=Europe/Berlin;VALUE=DATE:20230501
DTEND;TZID=Europe/Berlin;VALUE=DATE:20230522
SEQUENCE:0
TRANSP:OPAQUE
END:VEVENT
END:VCALENDAR