BEGIN:VCALENDAR
VERSION:2.0
PRODID:-//jEvents 2.0 for Joomla//EN
CALSCALE:GREGORIAN
METHOD:PUBLISH
BEGIN:VTIMEZONE
TZID:Europe/Berlin
BEGIN:STANDARD
DTSTART:20221030T020000
RDATE:20230326T030000
TZOFFSETFROM:+0200
TZOFFSETTO:+0100
TZNAME:Europe/Berlin CET
END:STANDARD
BEGIN:STANDARD
DTSTART:20231029T020000
RDATE:20240331T030000
TZOFFSETFROM:+0200
TZOFFSETTO:+0100
TZNAME:Europe/Berlin CET
END:STANDARD
BEGIN:STANDARD
DTSTART:20241027T020000
RDATE:20250330T030000
TZOFFSETFROM:+0200
TZOFFSETTO:+0100
TZNAME:Europe/Berlin CET
END:STANDARD
BEGIN:STANDARD
DTSTART:20251026T020000
RDATE:20260329T030000
TZOFFSETFROM:+0200
TZOFFSETTO:+0100
TZNAME:Europe/Berlin CET
END:STANDARD
BEGIN:STANDARD
DTSTART:20261025T020000
RDATE:20270328T030000
TZOFFSETFROM:+0200
TZOFFSETTO:+0100
TZNAME:Europe/Berlin CET
END:STANDARD
BEGIN:STANDARD
DTSTART:20271031T020000
RDATE:20280326T030000
TZOFFSETFROM:+0200
TZOFFSETTO:+0100
TZNAME:Europe/Berlin CET
END:STANDARD
BEGIN:STANDARD
DTSTART:20281029T020000
RDATE:20290325T030000
TZOFFSETFROM:+0200
TZOFFSETTO:+0100
TZNAME:Europe/Berlin CET
END:STANDARD
BEGIN:STANDARD
DTSTART:20291028T020000
RDATE:20300331T030000
TZOFFSETFROM:+0200
TZOFFSETTO:+0100
TZNAME:Europe/Berlin CET
END:STANDARD
BEGIN:STANDARD
DTSTART:20301027T020000
RDATE:20310330T030000
TZOFFSETFROM:+0200
TZOFFSETTO:+0100
TZNAME:Europe/Berlin CET
END:STANDARD
BEGIN:STANDARD
DTSTART:20311026T020000
RDATE:20320328T030000
TZOFFSETFROM:+0200
TZOFFSETTO:+0100
TZNAME:Europe/Berlin CET
END:STANDARD
BEGIN:DAYLIGHT
DTSTART:20220516T100000
RDATE:20221030T020000
TZOFFSETFROM:+0100
TZOFFSETTO:+0200
TZNAME:Europe/Berlin CEST
END:DAYLIGHT
BEGIN:DAYLIGHT
DTSTART:20230326T030000
RDATE:20231029T020000
TZOFFSETFROM:+0100
TZOFFSETTO:+0200
TZNAME:Europe/Berlin CEST
END:DAYLIGHT
BEGIN:DAYLIGHT
DTSTART:20240331T030000
RDATE:20241027T020000
TZOFFSETFROM:+0100
TZOFFSETTO:+0200
TZNAME:Europe/Berlin CEST
END:DAYLIGHT
BEGIN:DAYLIGHT
DTSTART:20250330T030000
RDATE:20251026T020000
TZOFFSETFROM:+0100
TZOFFSETTO:+0200
TZNAME:Europe/Berlin CEST
END:DAYLIGHT
BEGIN:DAYLIGHT
DTSTART:20260329T030000
RDATE:20261025T020000
TZOFFSETFROM:+0100
TZOFFSETTO:+0200
TZNAME:Europe/Berlin CEST
END:DAYLIGHT
BEGIN:DAYLIGHT
DTSTART:20270328T030000
RDATE:20271031T020000
TZOFFSETFROM:+0100
TZOFFSETTO:+0200
TZNAME:Europe/Berlin CEST
END:DAYLIGHT
BEGIN:DAYLIGHT
DTSTART:20280326T030000
RDATE:20281029T020000
TZOFFSETFROM:+0100
TZOFFSETTO:+0200
TZNAME:Europe/Berlin CEST
END:DAYLIGHT
BEGIN:DAYLIGHT
DTSTART:20290325T030000
RDATE:20291028T020000
TZOFFSETFROM:+0100
TZOFFSETTO:+0200
TZNAME:Europe/Berlin CEST
END:DAYLIGHT
BEGIN:DAYLIGHT
DTSTART:20300331T030000
RDATE:20301027T020000
TZOFFSETFROM:+0100
TZOFFSETTO:+0200
TZNAME:Europe/Berlin CEST
END:DAYLIGHT
BEGIN:DAYLIGHT
DTSTART:20310330T030000
RDATE:20311026T020000
TZOFFSETFROM:+0100
TZOFFSETTO:+0200
TZNAME:Europe/Berlin CEST
END:DAYLIGHT
END:VTIMEZONE
BEGIN:VEVENT
UID:ba37e8ce7af413a257ce164b7bd855c2
CATEGORIES:Veranstaltungen/Feste
CREATED:20230427T124150
SUMMARY:STADTRADELN - Fahrradcodierung in Friedland
LOCATION:Volkshaus Friedland
DESCRIPTION;ENCODING=QUOTED-PRINTABLE:\n\nDer Frühling ruft, die Tage werden länger und die Temperaturen steigen.
  Jetzt wird das Fahrrad wieder vermehrt zur Fortbewegung genutzt. Wer sein 
 Fahrrad besonders sichern will, ist am Mittwoch den 17. Mai 2023 in der Zei
 t von 10:00 – 15:00 Uhr zur kostenlosen Fahrradcodierung der Polizeiinspekt
 ion Neubrandenburg im Volkshaus Friedland willkommen.\n\n\nWofür ist eine F
 ahrradcodierung eigentlich gut?\n Bei einer Fahrradcodierung wird eine indi
 viduelle Kennzeichnung auf den Fahrradrahmen eingraviert, die den Diebstahl
  eines Fahrrades erschwert, wenn nicht sogar verhindert. Immerhin lässt sic
 h eine solche Codierung schwer entfernen und macht den Verkauf oder die Wei
 tergabe von gestohlenen Rädern reizlos. Darüber hinaus ist ein codiertes Fa
 hrrad seinem Besitzer oder seiner Besitzerin schnell und sicher zuordenbar.
 \n Interessierte und Radfahrer bringen bitte ihren Personalausweis sowie ei
 nen geeigneten Eigentumsnachweis mit. Besitzer von E-Bikes sollten darüber 
 hinaus auch den Akku-Schlüssel mitbringen, da der Akku für die Codierung ab
 gebaut werden muss. Wer nicht volljährig ist, benötigt eine Erlaubnis der E
 rziehungsberechtigten.\n\n\nAuf Grund zahlreicher Anfragen kann es zu Warte
 schlangen und längeren Wartezeiten kommen. Eine vorherige Anmeldung ist abe
 r nicht erforderlich.&nbsp;\n
CONTACT:Stadt Friedland -  Tel. 039601 - 27775
DTSTAMP:20260420T140816Z
DTSTART;TZID=Europe/Berlin:20230517T100000
DTEND;TZID=Europe/Berlin:20230517T150000
SEQUENCE:0
TRANSP:OPAQUE
END:VEVENT
END:VCALENDAR