BEGIN:VCALENDAR
VERSION:2.0
PRODID:-//jEvents 2.0 for Joomla//EN
CALSCALE:GREGORIAN
METHOD:PUBLISH
BEGIN:VTIMEZONE
TZID:Europe/Berlin
BEGIN:STANDARD
DTSTART:20221030T020000
RDATE:20230326T030000
TZOFFSETFROM:+0200
TZOFFSETTO:+0100
TZNAME:Europe/Berlin CET
END:STANDARD
BEGIN:STANDARD
DTSTART:20231029T020000
RDATE:20240331T030000
TZOFFSETFROM:+0200
TZOFFSETTO:+0100
TZNAME:Europe/Berlin CET
END:STANDARD
BEGIN:STANDARD
DTSTART:20241027T020000
RDATE:20250330T030000
TZOFFSETFROM:+0200
TZOFFSETTO:+0100
TZNAME:Europe/Berlin CET
END:STANDARD
BEGIN:STANDARD
DTSTART:20251026T020000
RDATE:20260329T030000
TZOFFSETFROM:+0200
TZOFFSETTO:+0100
TZNAME:Europe/Berlin CET
END:STANDARD
BEGIN:STANDARD
DTSTART:20261025T020000
RDATE:20270328T030000
TZOFFSETFROM:+0200
TZOFFSETTO:+0100
TZNAME:Europe/Berlin CET
END:STANDARD
BEGIN:STANDARD
DTSTART:20271031T020000
RDATE:20280326T030000
TZOFFSETFROM:+0200
TZOFFSETTO:+0100
TZNAME:Europe/Berlin CET
END:STANDARD
BEGIN:STANDARD
DTSTART:20281029T020000
RDATE:20290325T030000
TZOFFSETFROM:+0200
TZOFFSETTO:+0100
TZNAME:Europe/Berlin CET
END:STANDARD
BEGIN:STANDARD
DTSTART:20291028T020000
RDATE:20300331T030000
TZOFFSETFROM:+0200
TZOFFSETTO:+0100
TZNAME:Europe/Berlin CET
END:STANDARD
BEGIN:STANDARD
DTSTART:20301027T020000
RDATE:20310330T030000
TZOFFSETFROM:+0200
TZOFFSETTO:+0100
TZNAME:Europe/Berlin CET
END:STANDARD
BEGIN:STANDARD
DTSTART:20311026T020000
RDATE:20320328T030000
TZOFFSETFROM:+0200
TZOFFSETTO:+0100
TZNAME:Europe/Berlin CET
END:STANDARD
BEGIN:DAYLIGHT
DTSTART:20220804T093000
RDATE:20221030T020000
TZOFFSETFROM:+0100
TZOFFSETTO:+0200
TZNAME:Europe/Berlin CEST
END:DAYLIGHT
BEGIN:DAYLIGHT
DTSTART:20230326T030000
RDATE:20231029T020000
TZOFFSETFROM:+0100
TZOFFSETTO:+0200
TZNAME:Europe/Berlin CEST
END:DAYLIGHT
BEGIN:DAYLIGHT
DTSTART:20240331T030000
RDATE:20241027T020000
TZOFFSETFROM:+0100
TZOFFSETTO:+0200
TZNAME:Europe/Berlin CEST
END:DAYLIGHT
BEGIN:DAYLIGHT
DTSTART:20250330T030000
RDATE:20251026T020000
TZOFFSETFROM:+0100
TZOFFSETTO:+0200
TZNAME:Europe/Berlin CEST
END:DAYLIGHT
BEGIN:DAYLIGHT
DTSTART:20260329T030000
RDATE:20261025T020000
TZOFFSETFROM:+0100
TZOFFSETTO:+0200
TZNAME:Europe/Berlin CEST
END:DAYLIGHT
BEGIN:DAYLIGHT
DTSTART:20270328T030000
RDATE:20271031T020000
TZOFFSETFROM:+0100
TZOFFSETTO:+0200
TZNAME:Europe/Berlin CEST
END:DAYLIGHT
BEGIN:DAYLIGHT
DTSTART:20280326T030000
RDATE:20281029T020000
TZOFFSETFROM:+0100
TZOFFSETTO:+0200
TZNAME:Europe/Berlin CEST
END:DAYLIGHT
BEGIN:DAYLIGHT
DTSTART:20290325T030000
RDATE:20291028T020000
TZOFFSETFROM:+0100
TZOFFSETTO:+0200
TZNAME:Europe/Berlin CEST
END:DAYLIGHT
BEGIN:DAYLIGHT
DTSTART:20300331T030000
RDATE:20301027T020000
TZOFFSETFROM:+0100
TZOFFSETTO:+0200
TZNAME:Europe/Berlin CEST
END:DAYLIGHT
BEGIN:DAYLIGHT
DTSTART:20310330T030000
RDATE:20311026T020000
TZOFFSETFROM:+0100
TZOFFSETTO:+0200
TZNAME:Europe/Berlin CEST
END:DAYLIGHT
END:VTIMEZONE
BEGIN:VEVENT
UID:0877fb890486bfbaa3deaac997f1e374
CATEGORIES:Veranstaltungen/Feste
CREATED:20230706T115557
SUMMARY:Stauseerundwanderung in Brohm
LOCATION:Brohm
DESCRIPTION;ENCODING=QUOTED-PRINTABLE:<p>Am Sonnabend, dem 05. August 2023 sind Groß und Klein wieder eingeladen,
  sich an der alljährlichen Stauseerundwanderung in Brohm zu beteiligen.</p>
 <p>Die geführte Wanderung um die nördlichste Talsperre beginnt um 9.30 Uhr 
 an der Sitzecke neben den drei Schautafeln - gegenüber der Kirche in Brohm.
 </p><p>Die Talsperre wurde bereits vor 51 Jahren erbaut. Während damals die
  Älteren die Hochwasserspitzen des Golmer Mühlenbachs an einstiger Wassermü
 hle und Brücke zwischen Brohm und Cosa gebannt sahen und sich über das ents
 tandene Speicherbecken für die Beregnung der Felder ringsum freuten, nutzte
 n die Jüngeren den herrlichen See zum Baden. So sagen auch heute noch die A
 ngler, Wanderer und Naturschützer liebevoll, das ist „unser“ See.</p><p>Bew
 usst schützen, heißt auch wissen! Das meinen die Freunde des Brohmer Stause
 es weit und breit. Dafür Lob und Anerkennung! Einige Quizfragen seien hier 
 schon einmal vorweggenommen: Wann war der Baubeginn des Staudamms, oder das
  Bauende, wie groß sind die Staudammlänge, die Dammhöhe, die Staufläche und
  das Einzugsgebiet? Wer organisiert seit über 20 Jahren die Stauseewanderun
 g? Wann erfolgte der Bau der „Brohmer Wasserterrassen“? Welche geschützten 
 Tiere gibt es an unserem See? Worin besteht heute die wichtigste Aufgabe de
 s Brohmer Stausees?</p><p>Wir wünschen beim Wandern, Erzählen und Raten, ab
 er auch beim anschließenden Besichtigen von „Zerwers Garten“ mit Kaffee und
  Kuchen viel Spaß und Erholung. Es wird festes Schuhwerk auf dem ca. 3,5 km
  langen Rundweg empfohlen. Bringen Sie gute Laune mit!</p>
CONTACT:Kultur- und Heimatverein Brohm e. V.  
DTSTAMP:20260424T120436Z
DTSTART;TZID=Europe/Berlin:20230805T093000
SEQUENCE:0
TRANSP:OPAQUE
END:VEVENT
END:VCALENDAR