BEGIN:VCALENDAR
VERSION:2.0
PRODID:-//jEvents 2.0 for Joomla//EN
CALSCALE:GREGORIAN
METHOD:PUBLISH
BEGIN:VTIMEZONE
TZID:Europe/Berlin
BEGIN:STANDARD
DTSTART:20240324T170000
RDATE:20240331T030000
TZOFFSETFROM:+0200
TZOFFSETTO:+0100
TZNAME:Europe/Berlin CET
END:STANDARD
BEGIN:STANDARD
DTSTART:20241027T020000
RDATE:20250330T030000
TZOFFSETFROM:+0200
TZOFFSETTO:+0100
TZNAME:Europe/Berlin CET
END:STANDARD
BEGIN:STANDARD
DTSTART:20251026T020000
RDATE:20260329T030000
TZOFFSETFROM:+0200
TZOFFSETTO:+0100
TZNAME:Europe/Berlin CET
END:STANDARD
BEGIN:STANDARD
DTSTART:20261025T020000
RDATE:20270328T030000
TZOFFSETFROM:+0200
TZOFFSETTO:+0100
TZNAME:Europe/Berlin CET
END:STANDARD
BEGIN:STANDARD
DTSTART:20271031T020000
RDATE:20280326T030000
TZOFFSETFROM:+0200
TZOFFSETTO:+0100
TZNAME:Europe/Berlin CET
END:STANDARD
BEGIN:STANDARD
DTSTART:20281029T020000
RDATE:20290325T030000
TZOFFSETFROM:+0200
TZOFFSETTO:+0100
TZNAME:Europe/Berlin CET
END:STANDARD
BEGIN:STANDARD
DTSTART:20291028T020000
RDATE:20300331T030000
TZOFFSETFROM:+0200
TZOFFSETTO:+0100
TZNAME:Europe/Berlin CET
END:STANDARD
BEGIN:STANDARD
DTSTART:20301027T020000
RDATE:20310330T030000
TZOFFSETFROM:+0200
TZOFFSETTO:+0100
TZNAME:Europe/Berlin CET
END:STANDARD
BEGIN:STANDARD
DTSTART:20311026T020000
RDATE:20320328T030000
TZOFFSETFROM:+0200
TZOFFSETTO:+0100
TZNAME:Europe/Berlin CET
END:STANDARD
BEGIN:DAYLIGHT
DTSTART:20240331T030000
RDATE:20241027T020000
TZOFFSETFROM:+0100
TZOFFSETTO:+0200
TZNAME:Europe/Berlin CEST
END:DAYLIGHT
BEGIN:DAYLIGHT
DTSTART:20250330T030000
RDATE:20251026T020000
TZOFFSETFROM:+0100
TZOFFSETTO:+0200
TZNAME:Europe/Berlin CEST
END:DAYLIGHT
BEGIN:DAYLIGHT
DTSTART:20260329T030000
RDATE:20261025T020000
TZOFFSETFROM:+0100
TZOFFSETTO:+0200
TZNAME:Europe/Berlin CEST
END:DAYLIGHT
BEGIN:DAYLIGHT
DTSTART:20270328T030000
RDATE:20271031T020000
TZOFFSETFROM:+0100
TZOFFSETTO:+0200
TZNAME:Europe/Berlin CEST
END:DAYLIGHT
BEGIN:DAYLIGHT
DTSTART:20280326T030000
RDATE:20281029T020000
TZOFFSETFROM:+0100
TZOFFSETTO:+0200
TZNAME:Europe/Berlin CEST
END:DAYLIGHT
BEGIN:DAYLIGHT
DTSTART:20290325T030000
RDATE:20291028T020000
TZOFFSETFROM:+0100
TZOFFSETTO:+0200
TZNAME:Europe/Berlin CEST
END:DAYLIGHT
BEGIN:DAYLIGHT
DTSTART:20300331T030000
RDATE:20301027T020000
TZOFFSETFROM:+0100
TZOFFSETTO:+0200
TZNAME:Europe/Berlin CEST
END:DAYLIGHT
BEGIN:DAYLIGHT
DTSTART:20310330T030000
RDATE:20311026T020000
TZOFFSETFROM:+0100
TZOFFSETTO:+0200
TZNAME:Europe/Berlin CEST
END:DAYLIGHT
END:VTIMEZONE
BEGIN:VEVENT
UID:6b08096c1fb998db639197229f904db5
CATEGORIES:Veranstaltungen/Feste
CREATED:20250314T113742
SUMMARY:Bürgerforum der Ministerpräsidentin des Landes Mecklenburg-Vorpommern
LOCATION:Volkshaus Friedland
DESCRIPTION;ENCODING=QUOTED-PRINTABLE:<p>Der Landesregierung und der Ministerpräsidentin ist der Austausch zwisch
 en den Bürgerinnen und Bürgern sowie den politischen Entscheidungsträgern s
 ehr wichtig - als Ministerpräsidentin möchte sie direkt ins Gespräch kommen
  und gemeinsam die drängendsten politischen Themen unserer Zeit besprechen.
  Deshalb interessieren Perspektiven, Hinweise und Ideen. Was bewegt in dies
 en Zeiten des Wandels? Wie wollen wir den aktuellen Herausforderungen begeg
 nen? Welche Chancen ergeben sich daraus für die Menschen in Mecklenburg-Vor
 pommern?</p><p>Die Ministerpräsidentin lädt Sie deshalb herzlich ein, beim 
 Bürgerforum am<strong> Dienstag, den 25. März 2025, um 17.00 Uhr</strong>, 
 im Volkshaus in Friedland, Vor dem Walltor 1, 17098 Friedland mit dabei zu 
 sein. Sie freut sich sehr, Sie gemeinsam mit dem Chef der Staatskanzlei, He
 rrn Patrick Dahlemann, und dem Parlamentarischen Staatssekretär für Vorpomm
 ern und das östliche Mecklenburg, Herrn Heiko Miraß, über die Schwerpunkte 
 unserer Arbeit zu informieren und vor allem mit Ihnen über die aktuellen En
 tscheidungen und Erwartungen der Landesregierung zu diskutieren und Ihre An
 regungen aufzunehmen.</p><p>Aus organisatorischen Gründen bitten wir Sie um
  eine Anmeldung. Diese kann im Internet unter <a href="https://www.regierun
 g-mv.de/BF-Schwesig" target="_blank" rel="noopener">https://www.regierung-m
 v.de/BF-Schwesig</a> oder an <span id="cloak1a1acd22b278a54749d69cc86df6b7f
 3">Diese E-Mail-Adresse ist vor Spambots geschützt! Zur Anzeige muss JavaSc
 ript eingeschaltet sein!</span><script type='text/javascript'>
				document
 .getElementById('cloak1a1acd22b278a54749d69cc86df6b7f3').innerHTML = '';
		
 		var prefix = '&#109;a' + 'i&#108;' + '&#116;o';
				var path = 'hr' + 'ef
 ' + '=';
				var addy1a1acd22b278a54749d69cc86df6b7f3 = 'pr&#111;t&#111;k&#
 111;ll' + '&#64;';
				addy1a1acd22b278a54749d69cc86df6b7f3 = addy1a1acd22b
 278a54749d69cc86df6b7f3 + 'stk' + '&#46;' + 'mv-r&#101;g&#105;&#101;r&#117;
 ng' + '&#46;' + 'd&#101;';
				var addy_text1a1acd22b278a54749d69cc86df6b7f
 3 = 'pr&#111;t&#111;k&#111;ll' + '&#64;' + 'stk' + '&#46;' + 'mv-r&#101;g&#
 105;&#101;r&#117;ng' + '&#46;' + 'd&#101;';document.getElementById('cloak1a
 1acd22b278a54749d69cc86df6b7f3').innerHTML += '<a ' + path + '\'' + prefix 
 + ':' + addy1a1acd22b278a54749d69cc86df6b7f3 + '\'>'+addy_text1a1acd22b278a
 54749d69cc86df6b7f3+'<\/a>';
		</script> erfolgen.</p>
CONTACT:Diese E-Mail-Adresse ist vor Spambots geschützt! Zur Anzeige muss JavaScript eingeschaltet sein!
				document.getElementById('cloake1e3b7a3ff9f8361aba7bcd70eb9930b').innerHTML = '';
				var prefix = '&#109;a' + 'i&#108;' + '&#116;o';
				var path = 'hr' + 'ef' + '=';
				var addye1e3b7a3ff9f8361aba7bcd70eb9930b = 'pr&#111;t&#111;k&#111;ll' + '&#64;';
				addye1e3b7a3ff9f8361aba7bcd70eb9930b = addye1e3b7a3ff9f8361aba7bcd70eb9930b + 'stk' + '&#46;' + 'mv-r&#101;g&#105;&#101;r&#117;ng' + '&#46;' + 'd&#101;';
				var addy_texte1e3b7a3ff9f8361aba7bcd70eb9930b = 'pr&#111;t&#111;k&#111;ll' + '&#64;' + 'stk' + '&#46;' + 'mv-r&#101;g&#105;&#101;r&#117;ng' + '&#46;' + 'd&#101;';document.getElementById('cloake1e3b7a3ff9f8361aba7bcd70eb9930b').innerHTML += ''+addy_texte1e3b7a3ff9f8361aba7bcd70eb9930b+'';
		 
DTSTAMP:20260425T041139Z
DTSTART;TZID=Europe/Berlin:20250325T170000
SEQUENCE:0
TRANSP:OPAQUE
END:VEVENT
END:VCALENDAR