BEGIN:VCALENDAR
VERSION:2.0
PRODID:-//jEvents 2.0 for Joomla//EN
CALSCALE:GREGORIAN
METHOD:PUBLISH
BEGIN:VTIMEZONE
TZID:Europe/Berlin
BEGIN:STANDARD
DTSTART:20231209T163000
RDATE:20240331T030000
TZOFFSETFROM:+0200
TZOFFSETTO:+0100
TZNAME:Europe/Berlin CET
END:STANDARD
BEGIN:STANDARD
DTSTART:20241027T020000
RDATE:20250330T030000
TZOFFSETFROM:+0200
TZOFFSETTO:+0100
TZNAME:Europe/Berlin CET
END:STANDARD
BEGIN:STANDARD
DTSTART:20251026T020000
RDATE:20260329T030000
TZOFFSETFROM:+0200
TZOFFSETTO:+0100
TZNAME:Europe/Berlin CET
END:STANDARD
BEGIN:STANDARD
DTSTART:20261025T020000
RDATE:20270328T030000
TZOFFSETFROM:+0200
TZOFFSETTO:+0100
TZNAME:Europe/Berlin CET
END:STANDARD
BEGIN:STANDARD
DTSTART:20271031T020000
RDATE:20280326T030000
TZOFFSETFROM:+0200
TZOFFSETTO:+0100
TZNAME:Europe/Berlin CET
END:STANDARD
BEGIN:STANDARD
DTSTART:20281029T020000
RDATE:20290325T030000
TZOFFSETFROM:+0200
TZOFFSETTO:+0100
TZNAME:Europe/Berlin CET
END:STANDARD
BEGIN:STANDARD
DTSTART:20291028T020000
RDATE:20300331T030000
TZOFFSETFROM:+0200
TZOFFSETTO:+0100
TZNAME:Europe/Berlin CET
END:STANDARD
BEGIN:STANDARD
DTSTART:20301027T020000
RDATE:20310330T030000
TZOFFSETFROM:+0200
TZOFFSETTO:+0100
TZNAME:Europe/Berlin CET
END:STANDARD
BEGIN:STANDARD
DTSTART:20311026T020000
RDATE:20320328T030000
TZOFFSETFROM:+0200
TZOFFSETTO:+0100
TZNAME:Europe/Berlin CET
END:STANDARD
BEGIN:DAYLIGHT
DTSTART:20240331T030000
RDATE:20241027T020000
TZOFFSETFROM:+0100
TZOFFSETTO:+0200
TZNAME:Europe/Berlin CEST
END:DAYLIGHT
BEGIN:DAYLIGHT
DTSTART:20250330T030000
RDATE:20251026T020000
TZOFFSETFROM:+0100
TZOFFSETTO:+0200
TZNAME:Europe/Berlin CEST
END:DAYLIGHT
BEGIN:DAYLIGHT
DTSTART:20260329T030000
RDATE:20261025T020000
TZOFFSETFROM:+0100
TZOFFSETTO:+0200
TZNAME:Europe/Berlin CEST
END:DAYLIGHT
BEGIN:DAYLIGHT
DTSTART:20270328T030000
RDATE:20271031T020000
TZOFFSETFROM:+0100
TZOFFSETTO:+0200
TZNAME:Europe/Berlin CEST
END:DAYLIGHT
BEGIN:DAYLIGHT
DTSTART:20280326T030000
RDATE:20281029T020000
TZOFFSETFROM:+0100
TZOFFSETTO:+0200
TZNAME:Europe/Berlin CEST
END:DAYLIGHT
BEGIN:DAYLIGHT
DTSTART:20290325T030000
RDATE:20291028T020000
TZOFFSETFROM:+0100
TZOFFSETTO:+0200
TZNAME:Europe/Berlin CEST
END:DAYLIGHT
BEGIN:DAYLIGHT
DTSTART:20300331T030000
RDATE:20301027T020000
TZOFFSETFROM:+0100
TZOFFSETTO:+0200
TZNAME:Europe/Berlin CEST
END:DAYLIGHT
BEGIN:DAYLIGHT
DTSTART:20310330T030000
RDATE:20311026T020000
TZOFFSETFROM:+0100
TZOFFSETTO:+0200
TZNAME:Europe/Berlin CEST
END:DAYLIGHT
END:VTIMEZONE
BEGIN:VEVENT
UID:cbe099b3d0a3b034b9acb675c6b4a1c8
CATEGORIES:Veranstaltungen/Feste
CREATED:20241128T112258
SUMMARY:50 Jahre Freibad - 1. Planungstreffen
LOCATION:Friedland\, Ratssaal
DESCRIPTION;ENCODING=QUOTED-PRINTABLE:\n\nDas Friedländer Freibad wird am 5. August 2025 50 Jahre alt. Zu einer g
 emeinsamen Planungsrunde zum Jubiläum sind alle Interessierten am 9. Dezemb
 er 2024 in den Ratssaal im Alten Gymnasium eingeladen.&nbsp;\n\n\nHaben Sie
  Ideen:\n\n\n... für den Rückblick einen Beitrag zu leisten?\n... mit Mater
 ialien aus Ihrer Freibadzeit beizutragen?\n... für Schülergruppen zu Interv
 iews zur Verfügung zu stehen, eventuell auch im Rahmen von Schulprojekten?\
 n... eine Veranstaltung im Rahmen des Jubiläums mitzugestalten?\n\n\nDie Li
 ste ist keinesfalls abschließend – wir wünschen uns ebenfalls, dass Sie Ihr
 e Ideen und Vorschläge einbringen, die zum Gelingen des Jubiläums beitragen
  können. Sie helfen uns auch sehr, wenn Sie unseren Aufruf an Ihre Bekannte
 n weitergeben. Für eine Planung bitten wir um eine Anmeldung Tel. 039601 - 
 27768 oder Mail:&nbsp;Diese E-Mail-Adresse ist vor Spambots geschützt! Zur 
 Anzeige muss JavaScript eingeschaltet sein!
				document.getElementById('cl
 oak0b6e5083805f047424d9e7220e90b92b').innerHTML = '';
				var prefix = '&#1
 09;a' + 'i&#108;' + '&#116;o';
				var path = 'hr' + 'ef' + '=';
				var ad
 dy0b6e5083805f047424d9e7220e90b92b = 'j.l&#111;&#101;hn&#101;rt' + '&#64;';
 
				addy0b6e5083805f047424d9e7220e90b92b = addy0b6e5083805f047424d9e7220e9
 0b92b + 'fr&#105;&#101;dl&#97;nd-m&#101;ckl&#101;nb&#117;rg' + '&#46;' + 'd
 &#101;';
				var addy_text0b6e5083805f047424d9e7220e90b92b = 'j.l&#111;&#10
 1;hn&#101;rt' + '&#64;' + 'fr&#105;&#101;dl&#97;nd-m&#101;ckl&#101;nb&#117;
 rg' + '&#46;' + 'd&#101;';document.getElementById('cloak0b6e5083805f047424d
 9e7220e90b92b').innerHTML += ''+addy_text0b6e5083805f047424d9e7220e90b92b+'
 ';
		\n\n\n&nbsp;\n
CONTACT:Tel. 039601 - 27768 oder Mail: Diese E-Mail-Adresse ist vor Spambots geschützt! Zur Anzeige muss JavaScript eingeschaltet sein!
				document.getElementById('cloak1ceef9ce1fd111f3f28a2822e6746ada').innerHTML = '';
				var prefix = '&#109;a' + 'i&#108;' + '&#116;o';
				var path = 'hr' + 'ef' + '=';
				var addy1ceef9ce1fd111f3f28a2822e6746ada = 'j.l&#111;&#101;hn&#101;rt' + '&#64;';
				addy1ceef9ce1fd111f3f28a2822e6746ada = addy1ceef9ce1fd111f3f28a2822e6746ada + 'fr&#105;&#101;dl&#97;nd-m&#101;ckl&#101;nb&#117;rg' + '&#46;' + 'd&#101;';
				var addy_text1ceef9ce1fd111f3f28a2822e6746ada = 'j.l&#111;&#101;hn&#101;rt' + '&#64;' + 'fr&#105;&#101;dl&#97;nd-m&#101;ckl&#101;nb&#117;rg' + '&#46;' + 'd&#101;';document.getElementById('cloak1ceef9ce1fd111f3f28a2822e6746ada').innerHTML += ''+addy_text1ceef9ce1fd111f3f28a2822e6746ada+'';
		   
DTSTAMP:20260421T170047Z
DTSTART;TZID=Europe/Berlin:20241209T163000
DTEND;TZID=Europe/Berlin:20241209T180000
SEQUENCE:0
TRANSP:OPAQUE
END:VEVENT
END:VCALENDAR